BEGIN:VCALENDAR
VERSION:2.0
PRODID:-//Kosmetik Fricktal Esther Olloz - ECPv5.11.0//NONSGML v1.0//EN
CALSCALE:GREGORIAN
METHOD:PUBLISH
X-WR-CALNAME:Kosmetik Fricktal Esther Olloz
X-ORIGINAL-URL:https://kosmetikfricktal.ch
X-WR-CALDESC:Veranstaltungen im Kosmetik Fricktal Esther Olloz
BEGIN:VTIMEZONE
TZID:UTC
BEGIN:STANDARD
TZOFFSETFROM:+0000
TZOFFSETTO:+0000
TZNAME:UTC
DTSTART:20200101T000000
END:STANDARD
END:VTIMEZONE
BEGIN:VEVENT
DTSTART;TZID=UTC:20200414T080000
DTEND;TZID=UTC:20200414T170000
DTSTAMP:20260422T222811
CREATED:20170822T122432Z
LAST-MODIFIED:20170822T124707Z
UID:230-1586851200-1586883600@kosmetikfricktal.ch
SUMMARY:Acrylics Full Set  Glitters (design & gel top)
DESCRIPTION:A purus\, neque imperdiet\, ut justo\, urna id aliquet quis sed dui ultricies. Suspendisse tincidunt sed sed consectetur eu. Pharetra mauris ligula ad\, massa nulla vitae hac\, natoque consectetuer nunc eos nullam leo\, lorem eleifend nibh\, ipsum mi orci duis aenean. Mauris aenean vitae lectus elit etiam nunc\, magna ipsum curabitur et quis\, vitae sed. Quis suspendisse rutrum metus velit ut\, risus cursus\, suspendisse massa sit at\, etiam mi pulvinar inceptos duis\, arcu arcu velit wisi. Ligula eget netus odio\, accumsan pede donec luctus mollis vivamus wisi\, velit a pulvinar amet consequat sapien. Sit donec etiam odio diam donec\, nostra proin.
URL:https://kosmetikfricktal.ch/event/acrylics-full-set-glitters-design-gel-top-2/
LOCATION:Jude Nail Salon\, 176\, Street Name\, New York\, NY\, 10014176\, United States
END:VEVENT
BEGIN:VEVENT
DTSTART;TZID=UTC:20200412T080000
DTEND;TZID=UTC:20200412T170000
DTSTAMP:20260422T222811
CREATED:20170822T122339Z
LAST-MODIFIED:20170822T124717Z
UID:228-1586678400-1586710800@kosmetikfricktal.ch
SUMMARY:Acrylics Full Set w/white tips
DESCRIPTION:Mi sed curabitur neque vitae\, pellentesque id sapien elit neque tincidunt vitae\, nibh minus morbi scelerisque non. Sit nascetur arcu mauris ut nec rutrum\, nibh eget risus turpis diam eu. Diam laoreet auctor orci bibendum pharetra\, praesent at lectus in\, elit enim eget metus quis\, wisi repellat vel quam sapien sollicitudin. Commodo ut sapien\, mauris metus\, at justo aenean vivamus id\, urna in aliquam. Tristique montes viverra sit\, libero sociis\, blandit quis proin est ac. Viverra metus arcu maecenas pellentesque. Odio ornare sapien\, nec amet sed neque elit porttitor enim. Ut tincidunt wisi libero\, rhoncus quam dui faucibus et vel\, magna recusandae blandit tristique vestibulum.
URL:https://kosmetikfricktal.ch/event/acrylics-full-set-wwhite-tips-2/
LOCATION:Jude Nail Salon\, 176\, Street Name\, New York\, NY\, 10014176\, United States
END:VEVENT
BEGIN:VEVENT
DTSTART;TZID=UTC:20200404T080000
DTEND;TZID=UTC:20200404T170000
DTSTAMP:20260422T222811
CREATED:20170822T122127Z
LAST-MODIFIED:20170822T124729Z
UID:224-1585987200-1586019600@kosmetikfricktal.ch
SUMMARY:Acrylics Full Set  Regular polish\, gel top
DESCRIPTION:A purus\, neque imperdiet\, ut justo\, urna id aliquet quis sed dui ultricies. Suspendisse tincidunt sed sed consectetur eu. Pharetra mauris ligula ad\, massa nulla vitae hac\, natoque consectetuer nunc eos nullam leo\, lorem eleifend nibh\, ipsum mi orci duis aenean. Mauris aenean vitae lectus elit etiam nunc\, magna ipsum curabitur et quis\, vitae sed. Quis suspendisse rutrum metus velit ut\, risus cursus\, suspendisse massa sit at\, etiam mi pulvinar inceptos duis\, arcu arcu velit wisi. Ligula eget netus odio\, accumsan pede donec luctus mollis vivamus wisi\, velit a pulvinar amet consequat sapien. Sit donec etiam odio diam donec\, nostra proin.
URL:https://kosmetikfricktal.ch/event/acrylics-full-set-regular-polish-gel-top/
LOCATION:Jude Nail Salon\, 176\, Street Name\, New York\, NY\, 10014176\, United States
END:VEVENT
BEGIN:VEVENT
DTSTART;TZID=UTC:20200402T080000
DTEND;TZID=UTC:20200402T170000
DTSTAMP:20260422T222811
CREATED:20170822T122035Z
LAST-MODIFIED:20170822T124739Z
UID:222-1585814400-1585846800@kosmetikfricktal.ch
SUMMARY:Acrylics Regular  Full Set w/Gel  Polish
DESCRIPTION:A purus\, neque imperdiet\, ut justo\, urna id aliquet quis sed dui ultricies. Suspendisse tincidunt sed sed consectetur eu. Pharetra mauris ligula ad\, massa nulla vitae hac\, natoque consectetuer nunc eos nullam leo\, lorem eleifend nibh\, ipsum mi orci duis aenean. Mauris aenean vitae lectus elit etiam nunc\, magna ipsum curabitur et quis\, vitae sed. Quis suspendisse rutrum metus velit ut\, risus cursus\, suspendisse massa sit at\, etiam mi pulvinar inceptos duis\, arcu arcu velit wisi. Ligula eget netus odio\, accumsan pede donec luctus mollis vivamus wisi\, velit a pulvinar amet consequat sapien. Sit donec etiam odio diam donec\, nostra proin.
URL:https://kosmetikfricktal.ch/event/acrylics-regular-full-set-wgel-polish/
LOCATION:Jude Nail Salon\, 176\, Street Name\, New York\, NY\, 10014176\, United States
END:VEVENT
BEGIN:VEVENT
DTSTART;TZID=UTC:20200402T080000
DTEND;TZID=UTC:20200402T170000
DTSTAMP:20260422T222811
CREATED:20170822T121901Z
LAST-MODIFIED:20170822T124750Z
UID:220-1585814400-1585846800@kosmetikfricktal.ch
SUMMARY:Acrylics Full Set Glitters (design & gel top)
DESCRIPTION:A purus\, neque imperdiet\, ut justo\, urna id aliquet quis sed dui ultricies. Suspendisse tincidunt sed sed consectetur eu. Pharetra mauris ligula ad\, massa nulla vitae hac\, natoque consectetuer nunc eos nullam leo\, lorem eleifend nibh\, ipsum mi orci duis aenean. Mauris aenean vitae lectus elit etiam nunc\, magna ipsum curabitur et quis\, vitae sed. Quis suspendisse rutrum metus velit ut\, risus cursus\, suspendisse massa sit at\, etiam mi pulvinar inceptos duis\, arcu arcu velit wisi. Ligula eget netus odio\, accumsan pede donec luctus mollis vivamus wisi\, velit a pulvinar amet consequat sapien. Sit donec etiam odio diam donec\, nostra proin.
URL:https://kosmetikfricktal.ch/event/acrylics-full-set-glitters-design-gel-top/
LOCATION:Jude Nail Salon\, 176\, Street Name\, New York\, NY\, 10014176\, United States
END:VEVENT
BEGIN:VEVENT
DTSTART;TZID=UTC:20200326T080000
DTEND;TZID=UTC:20200326T203000
DTSTAMP:20260422T222811
CREATED:20170822T105202Z
LAST-MODIFIED:20170822T124800Z
UID:216-1585209600-1585254600@kosmetikfricktal.ch
SUMMARY:Regular Fill (French nail polish\, designs  gel top)
DESCRIPTION:A purus\, neque imperdiet\, ut justo\, urna id aliquet quis sed dui ultricies. Suspendisse tincidunt sed sed consectetur eu. Pharetra mauris ligula ad\, massa nulla vitae hac\, natoque consectetuer nunc eos nullam leo\, lorem eleifend nibh\, ipsum mi orci duis aenean. Mauris aenean vitae lectus elit etiam nunc\, magna ipsum curabitur et quis\, vitae sed. Quis suspendisse rutrum metus velit ut\, risus cursus\, suspendisse massa sit at\, etiam mi pulvinar inceptos duis\, arcu arcu velit wisi. Ligula eget netus odio\, accumsan pede donec luctus mollis vivamus wisi\, velit a pulvinar amet consequat sapien. Sit donec etiam odio diam donec\, nostra proin.
URL:https://kosmetikfricktal.ch/event/regular-fill-french-nail-polish-designs-gel-top/
LOCATION:Jude Nail Salon\, 176\, Street Name\, New York\, NY\, 10014176\, United States
END:VEVENT
END:VCALENDAR